BEGIN:VCALENDAR
VERSION:2.0
PRODID:-//Peach New Media//Web Event Information//EN
METHOD:REQUEST
BEGIN:VEVENT
UID:20260422T064621-61657984@peachnewmedia.com
DTSTAMP:20260422T064621
DTSTART:20260611T135000Z
DURATION:PT1880M
SUMMARY:06/11/2026 & 06/12/2026, From Deal to Lawsuit: A Shotgun Approach to Beginning Your Legal Journey
DESCRIPTION: Click here for a full description of this event: http://comedianoflaw.peachnewmedia.com/store/seminar/seminar.php?seminar=214978
ORGANIZER;CN=Comedian of Law:MAILTO:noreply@peachnewmedia.com
END:VEVENT
END:VCALENDAR
